BEGIN:VCALENDAR
VERSION:2.0
PRODID:-//wp-events-plugin.com//7.2.2.1//EN
TZID:America/New_York
X-WR-TIMEZONE:America/New_York
BEGIN:VEVENT
UID:103@thegregarioushermit.com
DTSTART;TZID=America/New_York:20260416T190000
DTEND;TZID=America/New_York:20260416T200000
DTSTAMP:20260415T143603Z
URL:https://thegregarioushermit.com/events/meditation-meetup-in-person-and
 -online-via-zoom
SUMMARY:Meditation Meetup in-person and online via Zoom
DESCRIPTION:\nIn-person and via Zoom - we meet every two weeks on Thursdays
  at 7:00pm\n\n\n\nUpcoming dates April 16\, 23\, 30 &amp\; May 7\, 14\n\n\
 n\n\n\n\n\nCome and join us at our mindfulness and meditation group where 
 we learn new skills and learn how to apply them to everyday life.\n\n\n\nE
 ach month we shed stress by practicing our main mindfulness meditation. It
 's the easiest to learn\, the most difficult to master\, but the one with 
 the biggest rewards. In addition\, I teach a couple of different meditatio
 n techniques each week\, so there's bound to be a meditation technique tha
 t will work for you.\n\n\n\nWe cover a wide range of topics from practical
  health benefits\, using your mind to heal\, the roots of meditation\, sil
 encing the mind\, distancing yourself from your mind and body\, reprogramm
 ing your default responses.........and much much more.\n\n\n\nJoin me in-p
 erson at\;\n\n\n\n\nThe Prince of Peace Lutheran Church10 Knoll Drive\, Ro
 ckaway\, NJ 07866\n\n\n\n\nOr join us virtually via ZOOM. Please register 
 to receive the Zoom link and receive notifications about changes or cancel
 lations.\n\n\n\n###IMPORTANT - You must register to receive the ZOOM link 
 as well as updates and notifications about last minute changes or cancella
 tions.\n
ATTACH;FMTTYPE=image/jpeg:https://thegregarioushermit.com/wp-content/uploa
 ds/2024/04/041821-TourRG-017.00_01_26_01.Still085-2-1.jpg
END:VEVENT
BEGIN:VTIMEZONE
TZID:America/New_York
X-LIC-LOCATION:America/New_York
BEGIN:DAYLIGHT
DTSTART:20260308T030000
TZOFFSETFROM:-0500
TZOFFSETTO:-0400
TZNAME:EDT
END:DAYLIGHT
END:VTIMEZONE
END:VCALENDAR